BEGIN:VCALENDAR
VERSION:2.0
PRODID:icalendar-ruby
CALSCALE:GREGORIAN
METHOD:PUBLISH
BEGIN:VEVENT
DTSTAMP:20260425T141910Z
UID:545-43215@miamivalleychurch.org
DTSTART:20260501T230000Z
DTEND:20260502T003000Z
CLASS:PUBLIC
CREATED:20260424T143039
DESCRIPTION:
LAST-MODIFIED:20260424T143039
LOCATION:1450 E Dorothy Ln | Kettering
SUMMARY:Meet & Greet (Potluck)
URL;VALUE=URI:https://thedaytonchurch.com/events/meet-greet-potluck/2026-05
 -01
ATTACH;FILENAME=05.01.26 - Meet & Greet_web.jpg;FMTTYPE=image/jpeg:https://
 dq5pwpg1q8ru0.cloudfront.net/2026/04/24/18/30/39/a4086f02-ba92-4191-9c93-6
 d1e54b38090/05.01.26%20-%20Meet%20&%20Greet_web.jpg
END:VEVENT
END:VCALENDAR
