BEGIN:VCALENDAR
VERSION:2.0
PRODID:icalendar-ruby
CALSCALE:GREGORIAN
METHOD:PUBLISH
BEGIN:VEVENT
DTSTAMP:20260421T112039Z
UID:541-43210@miamivalleychurch.org
DTSTART:20260506T230000Z
DTEND:20260507T003000Z
CLASS:PUBLIC
CREATED:20260420T100110
DESCRIPTION:
LAST-MODIFIED:20260420T100110
LOCATION:1450 E Dorothy Lane | Kettering
SUMMARY:Everyone Midweek
URL;VALUE=URI:https://thedaytonchurch.com/events/everyone-midweek--541/2026
 -05-06
ATTACH;FILENAME=1 web.jpg;FMTTYPE=image/jpeg:https://dq5pwpg1q8ru0.cloudfro
 nt.net/2026/04/20/14/01/09/43bd22de-c93e-4aa0-9b35-582a2b6766bc/1%20web.jp
 g
END:VEVENT
END:VCALENDAR
